BEGIN:VCALENDAR
VERSION:2.0
PRODID:-//RI Land Trust Days - ECPv6.15.20//NONSGML v1.0//EN
CALSCALE:GREGORIAN
METHOD:PUBLISH
X-ORIGINAL-URL:https://www.rilandtrusts.org/landtrustdays
X-WR-CALDESC:Events for RI Land Trust Days
REFRESH-INTERVAL;VALUE=DURATION:PT1H
X-Robots-Tag:noindex
X-PUBLISHED-TTL:PT1H
BEGIN:VTIMEZONE
TZID:Africa/Abidjan
BEGIN:STANDARD
TZOFFSETFROM:+0000
TZOFFSETTO:+0000
TZNAME:GMT
DTSTART:20210101T000000
END:STANDARD
END:VTIMEZONE
BEGIN:VTIMEZONE
TZID:America/New_York
BEGIN:DAYLIGHT
TZOFFSETFROM:-0500
TZOFFSETTO:-0400
TZNAME:EDT
DTSTART:20170312T070000
END:DAYLIGHT
BEGIN:STANDARD
TZOFFSETFROM:-0400
TZOFFSETTO:-0500
TZNAME:EST
DTSTART:20171105T060000
END:STANDARD
BEGIN:DAYLIGHT
TZOFFSETFROM:-0500
TZOFFSETTO:-0400
TZNAME:EDT
DTSTART:20180311T070000
END:DAYLIGHT
BEGIN:STANDARD
TZOFFSETFROM:-0400
TZOFFSETTO:-0500
TZNAME:EST
DTSTART:20181104T060000
END:STANDARD
BEGIN:DAYLIGHT
TZOFFSETFROM:-0500
TZOFFSETTO:-0400
TZNAME:EDT
DTSTART:20190310T070000
END:DAYLIGHT
BEGIN:STANDARD
TZOFFSETFROM:-0400
TZOFFSETTO:-0500
TZNAME:EST
DTSTART:20191103T060000
END:STANDARD
END:VTIMEZONE
BEGIN:VEVENT
DTSTART;TZID=Africa/Abidjan:20220924T120000
DTEND;TZID=Africa/Abidjan:20220924T150000
DTSTAMP:20260425T221914
CREATED:20220901T135535Z
LAST-MODIFIED:20220922T185326Z
UID:10000470-1664020800-1664031600@www.rilandtrusts.org
SUMMARY:CANCELLED: Row to Jacob's Point with Warren Land Conservation Trust
DESCRIPTION:THIS  EVENT HAS BEEN CANCELLED DUE TO EXPECTED HIGH WINDS. \nAdult participants will learn how to row a 4 oared dory or a 6 oared pilot gig from two experienced coxswains. Participants will row a mile to Warren Land Trust’s property Jacob’s Point\, where the boats will be beached and the rowers will have a chance to explore and learn about Jacob’s Point beach and salt marsh ecology. Participants will then row back to the wharf. Please wear water shoes and weather-appropriate clothing and a hat. Gloves to protect your hands when rowing are helpful. Bring sunscreen\, bug spray\, water\, and a snack\, and binoculars to view bird life. Participants are required to wear a PFD which will be provided. 10 spaces are available. \nThe Wharf is on Water Street between State and Washington St. Parking is limited on the wharf. Please follow the signs. Street parking is also available in the neighborhood. \nLearn more about Warren Land Conservation Trust\, Inc at https://warrenlct.org/
URL:https://www.rilandtrusts.org/landtrustdays/activity-new/row-to-jacobs-point-with-warren-land-conservation-trust
LOCATION:Warren Town Wharf\, 279 Water St\, Warren\, RI\, 02885\, United States
ATTACH;FMTTYPE=image/jpeg:https://www.rilandtrusts.org/landtrustdays/wp-content/uploads/2022/09/1024x576-Ioo9Xb.tmp_.jpg
END:VEVENT
BEGIN:VEVENT
DTSTART;TZID=America/New_York:20180923T120000
DTEND;TZID=America/New_York:20180923T140000
DTSTAMP:20260425T221914
CREATED:20180910T134740Z
LAST-MODIFIED:20180910T134740Z
UID:10000273-1537704000-1537711200@www.rilandtrusts.org
SUMMARY:Row on the Warren River
DESCRIPTION:Location: Warren\nJoin the Warren Land Conservation Trust for a row on the Warren River. They will have two boats (a Pilot Gig and a Gunning Fort Dory) each holding an experienced skipper and a ‘crew’ of six. PFDs will be provided for participants. The row will be from the Warren Town Wharf (on Water St) to the Trust’s property at Jacob’s Point\, where there will be an opportunity to disembark for a brief walk. \nThe row will be held weather permitting. To reserve a spot\, please email hecticbunny@hotmail.com. Space is limited! Participants should wear clothing appropriate for the weather and water shoes/Tevas. Restrooms are available at the Town Wharf. This event is for adults\, 18+. \nThis is a repeat of last year’s very successful ‘sold out’ row to Tom’s Island. Reserve your spot now! \nQuestions? Contact hecticbunny@hotmail.com \nDirections: Meet at Warren Town Wharf. From I-195\, take exit 2 to Market St/Rt 136 South towards Warren. Follow into town and turn right onto Main St/Rt 114. Make a quick left onto Miller St then turn left onto Water St. Enter the parking lot at Traffords restaurant. Signs will indicate parking spaces.
URL:https://www.rilandtrusts.org/landtrustdays/activity-new/row-on-the-warren-river
LOCATION:Warren Town Wharf\, 279 Water St\, Warren\, RI\, 02885\, United States
ATTACH;FMTTYPE=image/jpeg:https://www.rilandtrusts.org/landtrustdays/wp-content/uploads/2018/09/IMG_2946.jpg
END:VEVENT
END:VCALENDAR