BEGIN:VCALENDAR
VERSION:2.0
PRODID:-//RI Land Trust Days - ECPv6.15.20//NONSGML v1.0//EN
CALSCALE:GREGORIAN
METHOD:PUBLISH
X-ORIGINAL-URL:https://www.rilandtrusts.org/landtrustdays
X-WR-CALDESC:Events for RI Land Trust Days
REFRESH-INTERVAL;VALUE=DURATION:PT1H
X-Robots-Tag:noindex
X-PUBLISHED-TTL:PT1H
BEGIN:VTIMEZONE
TZID:Africa/Abidjan
BEGIN:STANDARD
TZOFFSETFROM:+0000
TZOFFSETTO:+0000
TZNAME:GMT
DTSTART:20210101T000000
END:STANDARD
END:VTIMEZONE
BEGIN:VEVENT
DTSTART;TZID=Africa/Abidjan:20221126T100000
DTEND;TZID=Africa/Abidjan:20221126T130000
DTSTAMP:20260425T121126
CREATED:20221122T181524Z
LAST-MODIFIED:20221122T181729Z
UID:10000488-1669456800-1669467600@www.rilandtrusts.org
SUMMARY:New Trail: Woodward Rock at Sprague Farm
DESCRIPTION:New trails to explore at the 1200 acre Glocester Land Trust Sprague Farm. The easy walk will be about three miles long. The ground is a bit uneven so do wear sturdy shoes or lightweight hiking boots. It is hunting season so please wear an orange vest or hat. If you don’t have one\, blaze orange vests will be available for borrowing. \nWoodward Rock is a huge ledge rock at the edge of a field and was noted in the 1879 survey of the property. The land trust volunteers have been working through the year to create new trails in the area. The new trails are slightly narrow in places and not yet marked\, but are easy to follow. These new trails will be widened\, blazed\, (paint markers on trees)\, and signed\, in the coming months. This event is the public unveiling of these new trails. \nThe walk will showcase the miles of stone walls on this property\, along with dense mountain laurel groves\, two Sprague Farm homesites (cellar hole foundations of home and outbuildings)\, glacial erratic boulders\, country farm roads\, and Woodward Rock which few people living have ever seen. \nFriendly\, social dogs are welcome but must be leashed. \nRain date Sunday\, November 27th.
URL:https://www.rilandtrusts.org/landtrustdays/activity-new/new-trail-woodward-rock-at-sprague-farm
LOCATION:Sprague Farm Glocester Land Trust Trailhead\, Pine Orchard Rd\, Chepachet\, RI\, 02814\, us
ATTACH;FMTTYPE=image/jpeg:https://www.rilandtrusts.org/landtrustdays/wp-content/uploads/2022/11/1024x576-wCjSCy.tmp_.jpg
GEO:41.9087028503;-71.7024459839
X-APPLE-STRUCTURED-LOCATION;VALUE=URI;X-ADDRESS=Sprague Farm Glocester Land Trust Trailhead Pine Orchard Rd Chepachet RI 02814 us;X-APPLE-RADIUS=500;X-TITLE=Pine Orchard Rd:geo:-71.7024459839,41.9087028503
END:VEVENT
END:VCALENDAR