BEGIN:VCALENDAR
VERSION:2.0
PRODID:-//RI Land Trust Days - ECPv6.15.20//NONSGML v1.0//EN
CALSCALE:GREGORIAN
METHOD:PUBLISH
X-ORIGINAL-URL:https://www.rilandtrusts.org/landtrustdays
X-WR-CALDESC:Events for RI Land Trust Days
REFRESH-INTERVAL;VALUE=DURATION:PT1H
X-Robots-Tag:noindex
X-PUBLISHED-TTL:PT1H
BEGIN:VTIMEZONE
TZID:Africa/Abidjan
BEGIN:STANDARD
TZOFFSETFROM:+0000
TZOFFSETTO:+0000
TZNAME:GMT
DTSTART:20210101T000000
END:STANDARD
END:VTIMEZONE
BEGIN:VEVENT
DTSTART;TZID=Africa/Abidjan:20220918T160000
DTEND;TZID=Africa/Abidjan:20220918T173000
DTSTAMP:20260425T094107
CREATED:20220902T144624Z
LAST-MODIFIED:20220902T145120Z
UID:10000479-1663516800-1663522200@www.rilandtrusts.org
SUMMARY:Social Paddle on Quonnie Pond
DESCRIPTION:***See registration instructions below!*** \nJoin the Charlestown Land Trust for a social paddle on eastern Quonochontaug Pond. Catch a glimpse of CLT properties you wouldn’t otherwise see\, including a parcel with a salt marsh habitat restoration project overseen by our partners at Save the Bay. The fun will continue afterwards at the Haversham for a drink (not included) and the opportunity to learn more about CLT. \nFollow West Beach Rd\, Charlestown\, to the end. Boat launch and parking there. \nAdditional details: \n\nPaddlers are expected to bring their own gear (kayak or paddleboard)\, including a PFD which must be worn during the paddle.\nParticipants must complete a waiver at time of paddle.\nThis event is weather dependent. If the event is cancelled due to inclement weather\, participants will receive notice\n\nRegistration REQUIRED and will be capped at 20. Reserve your spot here!
URL:https://www.rilandtrusts.org/landtrustdays/activity-new/social-paddle-on-quonnie-pond
LOCATION:Quonnie Boat Ramp\, W Beach Rd\, Charlestown\, RI\, 02813\, us
ATTACH;FMTTYPE=image/jpeg:https://www.rilandtrusts.org/landtrustdays/wp-content/uploads/2022/09/1024x576-QtspcF.tmp_.jpg
GEO:41.33646;-71.72212
X-APPLE-STRUCTURED-LOCATION;VALUE=URI;X-ADDRESS=Quonnie Boat Ramp W Beach Rd Charlestown RI 02813 us;X-APPLE-RADIUS=500;X-TITLE=W Beach Rd:geo:-71.72212,41.33646
END:VEVENT
END:VCALENDAR