BEGIN:VCALENDAR
VERSION:2.0
PRODID:-//RI Land Trust Days - ECPv6.15.20//NONSGML v1.0//EN
CALSCALE:GREGORIAN
METHOD:PUBLISH
X-ORIGINAL-URL:https://www.rilandtrusts.org/landtrustdays
X-WR-CALDESC:Events for RI Land Trust Days
REFRESH-INTERVAL;VALUE=DURATION:PT1H
X-Robots-Tag:noindex
X-PUBLISHED-TTL:PT1H
BEGIN:VTIMEZONE
TZID:Africa/Abidjan
BEGIN:STANDARD
TZOFFSETFROM:+0000
TZOFFSETTO:+0000
TZNAME:GMT
DTSTART:20210101T000000
END:STANDARD
END:VTIMEZONE
BEGIN:VEVENT
DTSTART;TZID=Africa/Abidjan:20230809T183000
DTEND;TZID=Africa/Abidjan:20230809T203000
DTSTAMP:20260425T062157
CREATED:20230802T200427Z
LAST-MODIFIED:20230803T180254Z
UID:10000492-1691605800-1691613000@www.rilandtrusts.org
SUMMARY:Nature Walk at the Stella Hall Conservation Area
DESCRIPTION:The Town of Coventry Land Trust is holding a Nature Walk at the\nStella Hall Conservation Area\, led by Ms. Jenna N. O’del\, Associate Wildlife Biologist/Coventry Land Trust. Learn about plants\, insects\, ecosystems\, wildlife tracks/signs\, and more! \nMeet at the parking area on Phillips Hill Road about 1\,000 feet north of Whaley Hollow Road or about 1 mile south of Route 117. \nRegister here.
URL:https://www.rilandtrusts.org/landtrustdays/activity-new/nature-walk-at-the-stella-hall-conservation-area
LOCATION:Phillips Hill Road\, Phillips Hill Rd\, Coventry\, RI\, 02816\, us
ATTACH;FMTTYPE=image/jpeg:https://www.rilandtrusts.org/landtrustdays/wp-content/uploads/2022/08/1024x576-kCJYwI.tmp_.jpg
GEO:41.687252;-71.637184
X-APPLE-STRUCTURED-LOCATION;VALUE=URI;X-ADDRESS=Phillips Hill Road Phillips Hill Rd Coventry RI 02816 us;X-APPLE-RADIUS=500;X-TITLE=Phillips Hill Rd:geo:-71.637184,41.687252
END:VEVENT
BEGIN:VEVENT
DTSTART;TZID=Africa/Abidjan:20220917T100000
DTEND;TZID=Africa/Abidjan:20220917T130000
DTSTAMP:20260425T062157
CREATED:20220801T175810Z
LAST-MODIFIED:20220901T194743Z
UID:10000444-1663408800-1663419600@www.rilandtrusts.org
SUMMARY:Stella Hall Conservation Area Land Trust Days
DESCRIPTION:Join the Coventry Land Trust for a guided walk\, followed by an open trail day at the Stella Hall property to introduce this conservation area to Coventry! \nCome experience the seasonal changes that September brings. The scenery on the trails is a mix of pine and hardwood forest along with wetlands and a scenic view of Stump Pond. A beaver dam can be seen at an inlet of Stump Pond. This property offers hikers a peaceful backdrop for a weekend excursion. The property is situated within a beautiful 70 acre conservation area where the Coventry Land Trust has developed three trails that are wide\, level and easy to walk regardless of experience level. \nAt 10am there will be a guided walk of the property’s yellow trail with members of the Land Trust. The walk will be 1 ¼ miles long (about 45-60 minutes) at a moderate pace. \nFollowing the guided walk\, all trails well be open until 1pm for self-guided access. There will be a member of The Coventry Land Trust at the trailhead to provide information and direct you to the trails. \nBe sure to wear comfortable clothing and good walking/hiking shoes. The Coventry Land Trust will provide bottled water\, snacks and bug spray. In addition\, the Land Trust will be holding a drawing featuring gift certificates from local businesses. \nThis event is free and open to the public. Leashed dogs welcome. (No plans for a rain date) \nQuestions? Contact Dennis Greene – pag397@verizon.net or (401) 397-8368. \nStella Hall Conservation Area is located on Phillips Hill Road. \nDirections: From route 117 turn onto Hill Farm Road. Immediately after the bike path crosswalk turn right onto Phillips Hill Road. Trail head and parking is approximately ¼ mile ahead. From Harkney Hill Road turn onto Phillips Hill Road. Trail head and parking is approximately 1 mile ahead. Look for Land Trust signage – tent and tables will be set up.
URL:https://www.rilandtrusts.org/landtrustdays/activity-new/stella-hall-conservation-area-land-trust-days
LOCATION:Phillips Hill Road\, Phillips Hill Rd\, Coventry\, RI\, 02816\, us
ATTACH;FMTTYPE=image/jpeg:https://www.rilandtrusts.org/landtrustdays/wp-content/uploads/2022/08/1024x576-JCXN2o.tmp_.jpg
GEO:41.687252;-71.637184
X-APPLE-STRUCTURED-LOCATION;VALUE=URI;X-ADDRESS=Phillips Hill Road Phillips Hill Rd Coventry RI 02816 us;X-APPLE-RADIUS=500;X-TITLE=Phillips Hill Rd:geo:-71.637184,41.687252
END:VEVENT
END:VCALENDAR