BEGIN:VCALENDAR
VERSION:2.0
PRODID:-//RI Land Trust Days - ECPv6.15.20//NONSGML v1.0//EN
CALSCALE:GREGORIAN
METHOD:PUBLISH
X-ORIGINAL-URL:https://www.rilandtrusts.org/landtrustdays
X-WR-CALDESC:Events for RI Land Trust Days
REFRESH-INTERVAL;VALUE=DURATION:PT1H
X-Robots-Tag:noindex
X-PUBLISHED-TTL:PT1H
BEGIN:VTIMEZONE
TZID:Africa/Abidjan
BEGIN:STANDARD
TZOFFSETFROM:+0000
TZOFFSETTO:+0000
TZNAME:GMT
DTSTART:20220101T000000
END:STANDARD
END:VTIMEZONE
BEGIN:VEVENT
DTSTART;TZID=Africa/Abidjan:20230830T190000
DTEND;TZID=Africa/Abidjan:20230830T210000
DTSTAMP:20260425T205607
CREATED:20230810T153923Z
LAST-MODIFIED:20230824T201719Z
UID:10000312-1693422000-1693429200@www.rilandtrusts.org
SUMMARY:Bioluminescent Paddle on Ninigret Pond with Charlestown Land Trust
DESCRIPTION:THIS EVENT IS AT CAPACITY. To join the waitlist\, please email Angela Brunetti at angela@charlestownlandtrust.org. \nJoin the Charlestown Land Trust and the Salt Ponds Coalition for a partner Bioluminescent Paddle on Ninigret Pond in our beautiful Charlestown\, RI. In the summer\, bioluminescent comb jellyfish make their way into coastal waters as the temperature warms up. On a dark\, warm summer night they can often be found near the surface of the water where they are easily disturbed. Paddlers will be delighted by the glow emitted by these amazing creatures with every stroke of their paddle. Check out some properties protected by CLT along the paddle! \nAdditional details: \n\nPaddlers are expected to bring their own gear (kayak or paddleboard)\, including a PFD which must be worn during the paddle.\nSince this paddle takes place after dark\, please be sure to bring headlamps or flashlights.\nParticipants must complete a waiver at time of paddle.\nThis event is weather dependent. If the event is cancelled due to inclement weather\, participants will receive notice\n\nRegistration REQUIRED. To RSVP\, visit charlestownlandtrust.org.
URL:https://www.rilandtrusts.org/landtrustdays/activity-new/bioluminescent-paddle-on-ninigret-pond-with-charlestown-land-trust
LOCATION:Ninigret National Wildlife Refuge\, Charlestown\, RI\, 02813\, us
ATTACH;FMTTYPE=image/png:https://www.rilandtrusts.org/landtrustdays/wp-content/uploads/2023/08/Bioluminescent-Paddle-image.png
GEO:41.36827;-71.67182
END:VEVENT
END:VCALENDAR