BEGIN:VCALENDAR
VERSION:2.0
PRODID:-//RI Land Trust Days - ECPv6.15.20//NONSGML v1.0//EN
CALSCALE:GREGORIAN
METHOD:PUBLISH
X-ORIGINAL-URL:https://www.rilandtrusts.org/landtrustdays
X-WR-CALDESC:Events for RI Land Trust Days
REFRESH-INTERVAL;VALUE=DURATION:PT1H
X-Robots-Tag:noindex
X-PUBLISHED-TTL:PT1H
BEGIN:VTIMEZONE
TZID:Africa/Abidjan
BEGIN:STANDARD
TZOFFSETFROM:+0000
TZOFFSETTO:+0000
TZNAME:GMT
DTSTART:20210101T000000
END:STANDARD
END:VTIMEZONE
BEGIN:VTIMEZONE
TZID:America/New_York
BEGIN:DAYLIGHT
TZOFFSETFROM:-0500
TZOFFSETTO:-0400
TZNAME:EDT
DTSTART:20200308T070000
END:DAYLIGHT
BEGIN:STANDARD
TZOFFSETFROM:-0400
TZOFFSETTO:-0500
TZNAME:EST
DTSTART:20201101T060000
END:STANDARD
BEGIN:DAYLIGHT
TZOFFSETFROM:-0500
TZOFFSETTO:-0400
TZNAME:EDT
DTSTART:20210314T070000
END:DAYLIGHT
BEGIN:STANDARD
TZOFFSETFROM:-0400
TZOFFSETTO:-0500
TZNAME:EST
DTSTART:20211107T060000
END:STANDARD
BEGIN:DAYLIGHT
TZOFFSETFROM:-0500
TZOFFSETTO:-0400
TZNAME:EDT
DTSTART:20220313T070000
END:DAYLIGHT
BEGIN:STANDARD
TZOFFSETFROM:-0400
TZOFFSETTO:-0500
TZNAME:EST
DTSTART:20221106T060000
END:STANDARD
END:VTIMEZONE
BEGIN:VEVENT
DTSTART;TZID=Africa/Abidjan:20230906T160000
DTEND;TZID=Africa/Abidjan:20230906T173000
DTSTAMP:20260425T142436
CREATED:20230808T221602Z
LAST-MODIFIED:20230808T221602Z
UID:10000512-1694016000-1694021400@www.rilandtrusts.org
SUMMARY:Johannis Farm Wildlife Preserve Walk with Barrington Land Conservation Trust
DESCRIPTION:Registration required — see link below. \nJoin the Barrington Land Conservation Trust for an autumn walk to Johannis Farm Wildlife Preserve. This 32-acre expanse of field\, forest\, and salt marshes lies the border of the Palmer River\, off Sowams Road in Barrington\, RI. \nBLCT will guide you through the forest trail and take you down to the salt marshes\, where you can see the effects of sea level rise in real time. The bridge which allowed circumnavigation of the site was washed out during the floods of December 2022. It will be rebuilt this fall by a team of students from Roger Williams University’s chapter of Engineers Without Borders. \nYou’ll also see the first two stages of a three-year planting program at Johannis Farm Wildlife Preserve\, funded in part by the Natural Resource Conservation Service (NRCS). Land Trust volunteers and the Audubon Youth Conservation League Team planted dozens of native trees and shrubs in 2022 and 2023\, with more planting to come in 2024. \nThe terrain is gentle but may be wet in places. Dress for the weather and wear sturdy footwear. You may wish to bring a walking stick or poles to assist you when crossing wet areas and narrow foot bridges. Dogs are not allowed on this property. \nThe walk will last about an hour and a half. All ages are welcome. You may park in the grassy lot just beyond the entrance to Johannis Farm Wildlife Preserve\, which is located between 461 and 475 Sowams Road in Barrington\, RI. The group will meet in the parking area and walk together to the trailhead. \nRegister here.
URL:https://www.rilandtrusts.org/landtrustdays/activity-new/johannis-farm-wildlife-preserve-walk-with-barrington-land-conservation-trust-9-6-2023
LOCATION:Johannis Farm\, Barrington\, RI\, 02806\, us
ATTACH;FMTTYPE=image/jpeg:https://www.rilandtrusts.org/landtrustdays/wp-content/uploads/2023/08/Milkweed_square_small.jpeg
GEO:41.764667510986;-71.290992736816
END:VEVENT
BEGIN:VEVENT
DTSTART;TZID=Africa/Abidjan:20221125T110000
DTEND;TZID=Africa/Abidjan:20221125T130000
DTSTAMP:20260425T142436
CREATED:20221108T172004Z
LAST-MODIFIED:20221108T172611Z
UID:10000490-1669374000-1669381200@www.rilandtrusts.org
SUMMARY:Day After Thanksgiving Walk with Barrington Land Conservation Trust
DESCRIPTION:***See registration instructions below!*** \nGet outside with family and friends on Nov. 25\, the day after Thanksgiving. Experience Johannis Farm Wildlife Preserve\, a property owned and managed by the Barrington Land Conservation Trust that is not normally open to the public. Johannis will be open from 11 am to 1 pm. Arrive anytime during these hours and walk the preserve at your own pace. The walk is approximately 30 minutes over wet and moderate terrain. Wear boots! Sorry\, no dogs allowed. Severe weather cancels the event. Parking is available on site. \nStunning vistas and open space at Johannis Farm Wildlife Preserve include 32 acres of field\, forest and shoreline\, teaming with birdlife and native plants. Check out our newly planted corridor of indigenous trees and shrubs. \nRegistration required. Register here. \nIf you can’t make this walk but would like to attend an upcoming walk hosted by the Barrington Land Conservation Trust\, email cindyelder@blct.org. We host a new walk every month!
URL:https://www.rilandtrusts.org/landtrustdays/activity-new/day-after-thanksgiving-walk-with-barrington-land-conservation-trust
LOCATION:Johannis Farm\, Barrington\, RI\, 02806\, us
ATTACH;FMTTYPE=image/jpeg:https://www.rilandtrusts.org/landtrustdays/wp-content/uploads/2022/08/1024x576-kCJYwI.tmp_.jpg
GEO:41.764667510986;-71.290992736816
END:VEVENT
BEGIN:VEVENT
DTSTART;TZID=America/New_York:20211126T100000
DTEND;TZID=America/New_York:20211126T120000
DTSTAMP:20260425T142436
CREATED:20211110T164107Z
LAST-MODIFIED:20211110T164349Z
UID:10000438-1637920800-1637928000@www.rilandtrusts.org
SUMMARY:Day After Thanksgiving Walk (Self-Guided) at Johannis Farm Wildlife Preserve
DESCRIPTION:Location: Barrington\nLand Trust Days: THANKSGIVING EDITION \nJoin the Barrington Land Conservation Trust to OptOutside this year and spend time with family and friends at Johannis Farm Wildlife Preserve! \nJohannis is a beautiful\, 32-acre wildlife preserve located on the Palmer River in Barrington. The preserve will be open from 10:00am-12:00pm\, you can arrive at anytime during these hours and walk the preserve at your own pace (this will not be a guided walk). \nAn RSVP is required to attend. Please send your name and the number of attendees to education@blct.org \nThe walk is approximately 30 minutes over wet and moderate terrain. Wear boots! This event is FREE and suitable for all ages. Leashed dogs welcome. \nSevere weather cancels the event. There is no rain date. Updates will be shared on the Facebook & Meetup event pages. \nQuestions? Email education@blct.org (…or post a question in the Facebook or Meetup event!) \nMeeting Place/Directions: Johannis is located on Sowams Road .7 miles north of Sowams Elementary School. Parking is available on site. \nLearn more about Barrington Land Conservation Trust here: https://www.blct.org/
URL:https://www.rilandtrusts.org/landtrustdays/activity-new/day-after-thanksgiving-walk-self-guided-at-johannis-farm-wildlife-preserve
LOCATION:Johannis Farm\, Barrington\, RI\, 02806\, us
ATTACH;FMTTYPE=image/jpeg:https://www.rilandtrusts.org/landtrustdays/wp-content/uploads/2021/11/highres_500127636-g4QHpQ.tmp_.jpg
GEO:41.764667510986;-71.290992736816
END:VEVENT
END:VCALENDAR