BEGIN:VCALENDAR
VERSION:2.0
PRODID:-//RI Land Trust Days - ECPv6.15.20//NONSGML v1.0//EN
CALSCALE:GREGORIAN
METHOD:PUBLISH
X-ORIGINAL-URL:https://www.rilandtrusts.org/landtrustdays
X-WR-CALDESC:Events for RI Land Trust Days
REFRESH-INTERVAL;VALUE=DURATION:PT1H
X-Robots-Tag:noindex
X-PUBLISHED-TTL:PT1H
BEGIN:VTIMEZONE
TZID:America/Halifax
BEGIN:DAYLIGHT
TZOFFSETFROM:-0400
TZOFFSETTO:-0300
TZNAME:ADT
DTSTART:20190310T060000
END:DAYLIGHT
BEGIN:STANDARD
TZOFFSETFROM:-0300
TZOFFSETTO:-0400
TZNAME:AST
DTSTART:20191103T050000
END:STANDARD
BEGIN:DAYLIGHT
TZOFFSETFROM:-0400
TZOFFSETTO:-0300
TZNAME:ADT
DTSTART:20200308T060000
END:DAYLIGHT
BEGIN:STANDARD
TZOFFSETFROM:-0300
TZOFFSETTO:-0400
TZNAME:AST
DTSTART:20201101T050000
END:STANDARD
BEGIN:DAYLIGHT
TZOFFSETFROM:-0400
TZOFFSETTO:-0300
TZNAME:ADT
DTSTART:20210314T060000
END:DAYLIGHT
BEGIN:STANDARD
TZOFFSETFROM:-0300
TZOFFSETTO:-0400
TZNAME:AST
DTSTART:20211107T050000
END:STANDARD
END:VTIMEZONE
BEGIN:VEVENT
DTSTART;TZID=America/Halifax:20200926T160000
DTEND;TZID=America/Halifax:20200926T170000
DTSTAMP:20260423T042906
CREATED:20200902T172434Z
LAST-MODIFIED:20200902T172604Z
UID:10000216-1601136000-1601139600@www.rilandtrusts.org
SUMMARY:Esek Hopkins Park Walk
DESCRIPTION:Location: Scituate \nJoin the Scituate Land Trust and the Gentian Garden Society for a walk through Esek Hopkins Park\, focused on a wooded area subject to a timber salvage operation later this year. \nLearn about how thinning tree stands and removing dead trees can improve the health of the forest and the safety and enjoyment of visitors. The Town of Scituate leases the property\, which is owned by the State and managed by the local Conservation Commission and Land Trust. The walk is jointly sponsored by the Scituate Land Trust and the Gentian Garden Society. \nAll participants must wear a face covering. Be sure to wear comfortable walking/hiking shoes and bring bug spray. This event is FREE and suitable for all ages. Leashed dogs welcomed. \nSevere weather will cancel this event. Updates regarding weather will be posted to the Meetup event. \n*NOTE: This event has a larger group size limit because there will be multiple walk leaders that will split the group if more than 15 attendees. All attendees (including guests – limit 2) must be pre-registered on this MeetUp event. \nQuestions? Contact Cindy Gianfrancesco – gleanergardens@cox.net or 401-440-7916 \nDirections to the trailhead will be sent out to everyone who has registered on MeetUp prior to the event date.
URL:https://www.rilandtrusts.org/landtrustdays/activity-new/esek-hopkins-park-walk
LOCATION:Esek Hopkins\, Scituate\, RI\, 02857\, us
ATTACH;FMTTYPE=image/jpeg:https://www.rilandtrusts.org/landtrustdays/wp-content/uploads/2020/09/highres_492132855-2iN93g.tmp_.jpg
GEO:41.830429077148;-71.605407714844
END:VEVENT
END:VCALENDAR