BEGIN:VCALENDAR
VERSION:2.0
PRODID:-//RI Land Trust Days - ECPv6.15.20//NONSGML v1.0//EN
CALSCALE:GREGORIAN
METHOD:PUBLISH
X-ORIGINAL-URL:https://www.rilandtrusts.org/landtrustdays
X-WR-CALDESC:Events for RI Land Trust Days
REFRESH-INTERVAL;VALUE=DURATION:PT1H
X-Robots-Tag:noindex
X-PUBLISHED-TTL:PT1H
BEGIN:VTIMEZONE
TZID:Africa/Abidjan
BEGIN:STANDARD
TZOFFSETFROM:+0000
TZOFFSETTO:+0000
TZNAME:GMT
DTSTART:20220101T000000
END:STANDARD
END:VTIMEZONE
BEGIN:VEVENT
DTSTART;TZID=Africa/Abidjan:20230817T173000
DTEND;TZID=Africa/Abidjan:20230817T193000
DTSTAMP:20260425T142351
CREATED:20230816T180256Z
LAST-MODIFIED:20230816T180256Z
UID:10000317-1692293400-1692300600@www.rilandtrusts.org
SUMMARY:Volunteer Training with Coventry Land Trust
DESCRIPTION:Anyone interested in contributing to an ongoing volunteer project is invited to join the Coventry Land Trust for a training session on bird and vegetation counts\, as well as creating fishing line collectors out of percolation tubes. The training will be led by Jenna O’del\, Associate Wildlife Biologist. \nVolunteers will learn to carry out these biological surveys\, so that they can be equipped to contribute to the projects on their own time. Volunteers of all ages and experiences are welcome! Whether a volunteer has studied biology or history their whole life\, or doesn’t know the difference between a bug and an insect\, everyone is welcome. Survey work is needed at several of the land trust’s beautiful properties. \nEmail Virginia Streeter at vstreeter@rilandtrusts.org to RSVP. \nIf you are interested in participating in this project but are unable to attend the training session\, please contact Jenna O’del directly at jodel@uri.edu.
URL:https://www.rilandtrusts.org/landtrustdays/activity-new/volunteer-training-with-coventry-land-trust
LOCATION:Beaudoin Conservation Area\, 76 Ledge Rd\, Coventry\, RI\, 02816\, us
ATTACH;FMTTYPE=image/jpeg:https://www.rilandtrusts.org/landtrustdays/wp-content/uploads/2022/08/1024x576-kCJYwI.tmp_.jpg
GEO:41.698887;-71.65593
X-APPLE-STRUCTURED-LOCATION;VALUE=URI;X-ADDRESS=Beaudoin Conservation Area 76 Ledge Rd Coventry RI 02816 us;X-APPLE-RADIUS=500;X-TITLE=76 Ledge Rd:geo:-71.65593,41.698887
END:VEVENT
END:VCALENDAR