BEGIN:VCALENDAR
VERSION:2.0
PRODID:-//RI Land Trust Days - ECPv6.15.20//NONSGML v1.0//EN
CALSCALE:GREGORIAN
METHOD:PUBLISH
X-ORIGINAL-URL:https://www.rilandtrusts.org/landtrustdays
X-WR-CALDESC:Events for RI Land Trust Days
REFRESH-INTERVAL;VALUE=DURATION:PT1H
X-Robots-Tag:noindex
X-PUBLISHED-TTL:PT1H
BEGIN:VTIMEZONE
TZID:Africa/Abidjan
BEGIN:STANDARD
TZOFFSETFROM:+0000
TZOFFSETTO:+0000
TZNAME:GMT
DTSTART:20210101T000000
END:STANDARD
END:VTIMEZONE
BEGIN:VEVENT
DTSTART;TZID=Africa/Abidjan:20231014T083000
DTEND;TZID=Africa/Abidjan:20231014T100000
DTSTAMP:20260425T191342
CREATED:20230920T151912Z
LAST-MODIFIED:20230920T151912Z
UID:10000557-1697272200-1697277600@www.rilandtrusts.org
SUMMARY:Bird Walk at Bush Hill Preserve
DESCRIPTION:Join the Land Conservancy of North Kingstown for a leisurely walk through the preserve looking and listening for fall migrating songbirds. There will be views into a saltmarsh from the new bridge that LCNK has installed\, and if there is time\, we may continue the walk into the adjacent Wilson Park. \nThe walk will be cancelled in the event of rain or excessive winds\, we will not be able to do the walk. No dogs. \nBush Hill Preserve is accessed behind the First Baptist Church in Wickford. 44 Main Street\, Wickford. Park behind the First Baptist Church\, all the way in the back\, at the trail entrance.
URL:https://www.rilandtrusts.org/landtrustdays/activity-new/bird-walk-at-bush-hill-preserve
LOCATION:44 Main St\, 44 Main St\, North Kingstown\, RI\, 02852\, us
ATTACH;FMTTYPE=image/jpeg:https://www.rilandtrusts.org/landtrustdays/wp-content/uploads/2022/08/1024x576-kCJYwI.tmp_.jpg
GEO:41.57187;-71.450554
X-APPLE-STRUCTURED-LOCATION;VALUE=URI;X-ADDRESS=44 Main St 44 Main St North Kingstown RI 02852 us;X-APPLE-RADIUS=500;X-TITLE=44 Main St:geo:-71.450554,41.57187
END:VEVENT
BEGIN:VEVENT
DTSTART;TZID=Africa/Abidjan:20220924T083000
DTEND;TZID=Africa/Abidjan:20220924T100000
DTSTAMP:20260425T191342
CREATED:20220811T170932Z
LAST-MODIFIED:20220907T160305Z
UID:10000455-1664008200-1664013600@www.rilandtrusts.org
SUMMARY:Bird Walk at Bush Hill Preserve
DESCRIPTION:We’ll take a leisurely walk through the preserve looking and listening for fall migrating songbirds. There will be views into a saltmarsh from the new bridge the Land Conservancy of North Kingstown has installed\, and if there is time\, we may continue the walk into the adjacent Wilson Park. \nIf there is rain or excessive winds\, we will not be able to do the walk. No dogs at this event. \nBush Hill Preserve is accessed behind the First Baptist Church in Wickford. 44 Main Street\, Wickford. Park behind the First Baptist Church\, all the way in the back\, at the trail entrance. \nLearn more about the Land Conservancy of North Kingstown on their website or Facebook.
URL:https://www.rilandtrusts.org/landtrustdays/activity-new/bird-walk-at-bush-wilson-park
LOCATION:44 Main St\, 44 Main St\, North Kingstown\, RI\, 02852\, us
ATTACH;FMTTYPE=image/jpeg:https://www.rilandtrusts.org/landtrustdays/wp-content/uploads/2022/08/1024x576-kZBqUt.tmp_.jpg
GEO:41.57187;-71.450554
X-APPLE-STRUCTURED-LOCATION;VALUE=URI;X-ADDRESS=44 Main St 44 Main St North Kingstown RI 02852 us;X-APPLE-RADIUS=500;X-TITLE=44 Main St:geo:-71.450554,41.57187
END:VEVENT
END:VCALENDAR