BEGIN:VCALENDAR
VERSION:2.0
PRODID:-//RI Land Trust Days - ECPv6.15.20//NONSGML v1.0//EN
CALSCALE:GREGORIAN
METHOD:PUBLISH
X-ORIGINAL-URL:https://www.rilandtrusts.org/landtrustdays
X-WR-CALDESC:Events for RI Land Trust Days
REFRESH-INTERVAL;VALUE=DURATION:PT1H
X-Robots-Tag:noindex
X-PUBLISHED-TTL:PT1H
BEGIN:VTIMEZONE
TZID:Africa/Abidjan
BEGIN:STANDARD
TZOFFSETFROM:+0000
TZOFFSETTO:+0000
TZNAME:GMT
DTSTART:20210101T000000
END:STANDARD
END:VTIMEZONE
BEGIN:VEVENT
DTSTART;TZID=Africa/Abidjan:20230930T110000
DTEND;TZID=Africa/Abidjan:20230930T160000
DTSTAMP:20260425T062359
CREATED:20230804T160412Z
LAST-MODIFIED:20230804T160548Z
UID:10000501-1696071600-1696089600@www.rilandtrusts.org
SUMMARY:Family Fun Day with West Greenwich Land Trust
DESCRIPTION:Family Fun Day is for everyone! Hosted by the West Greenwich Land Trust\, the event will coincide with a car show on the Town Hall lawn and a clamcakes and chowder supper at the Hianloland Fire Station. The land trust will conduct a guided tour of the Fry Pond Trail\, and there will be lawn games\, an ice cream truck and raffle baskets to benefit the West Greenwich Land Trust. \nJoin us behind the West Greenwich Town Hall at the pavilion and playground. The Fry Pond Trail is located just behind the pavilion. \nThis is a free event. Restrooms are available. Leashed dogs are welcome. \nLearn more about the West Greenwich Land Trust at their website or Facebook.
URL:https://www.rilandtrusts.org/landtrustdays/activity-new/family-fun-day-with-west-greenwich-land-trust
LOCATION:280 Victory Hwy\, 280 Victory Hwy\, West Greenwich\, RI\, 02817\, us
ATTACH;FMTTYPE=image/jpeg:https://www.rilandtrusts.org/landtrustdays/wp-content/uploads/2022/08/1024x576-kCJYwI.tmp_.jpg
GEO:41.6401;-71.68824
X-APPLE-STRUCTURED-LOCATION;VALUE=URI;X-ADDRESS=280 Victory Hwy 280 Victory Hwy West Greenwich RI 02817 us;X-APPLE-RADIUS=500;X-TITLE=280 Victory Hwy:geo:-71.68824,41.6401
END:VEVENT
BEGIN:VEVENT
DTSTART;TZID=Africa/Abidjan:20220917T130000
DTEND;TZID=Africa/Abidjan:20220917T160000
DTSTAMP:20260425T062359
CREATED:20220901T175904Z
LAST-MODIFIED:20220901T195315Z
UID:10000474-1663419600-1663430400@www.rilandtrusts.org
SUMMARY:Family Fun Day with the West Greenwich Land Trust
DESCRIPTION:This event is geared towards family and outdoor activities. The land trust will conduct a guided tour of one of our trails. There will be lawn games for play. There will be food and ice cream trucks available for food purchase\, and raffle baskets to benefit the West Greenwich Land Trust. \nWest Greenwich Town Hall has a beautiful pavilion and lawn for family enjoyment and the Fry Pond Trail is located behind the pavilion. \nThis is a free event. Restrooms are available. Leashed dogs are welcome. \nLearn more about the West Greenwich Land Trust at their website or Facebook.
URL:https://www.rilandtrusts.org/landtrustdays/activity-new/family-fun-day-with-the-west-greenwich-land-trust
LOCATION:280 Victory Hwy\, 280 Victory Hwy\, West Greenwich\, RI\, 02817\, us
ATTACH;FMTTYPE=image/jpeg:https://www.rilandtrusts.org/landtrustdays/wp-content/uploads/2022/08/1024x576-kCJYwI.tmp_.jpg
GEO:41.6401;-71.68824
X-APPLE-STRUCTURED-LOCATION;VALUE=URI;X-ADDRESS=280 Victory Hwy 280 Victory Hwy West Greenwich RI 02817 us;X-APPLE-RADIUS=500;X-TITLE=280 Victory Hwy:geo:-71.68824,41.6401
END:VEVENT
END:VCALENDAR