BEGIN:VCALENDAR
VERSION:2.0
PRODID:-//RI Land Trust Days - ECPv6.15.20//NONSGML v1.0//EN
CALSCALE:GREGORIAN
METHOD:PUBLISH
X-ORIGINAL-URL:https://www.rilandtrusts.org/landtrustdays
X-WR-CALDESC:Events for RI Land Trust Days
REFRESH-INTERVAL;VALUE=DURATION:PT1H
X-Robots-Tag:noindex
X-PUBLISHED-TTL:PT1H
BEGIN:VTIMEZONE
TZID:Africa/Abidjan
BEGIN:STANDARD
TZOFFSETFROM:+0000
TZOFFSETTO:+0000
TZNAME:GMT
DTSTART:20210101T000000
END:STANDARD
END:VTIMEZONE
BEGIN:VEVENT
DTSTART;TZID=Africa/Abidjan:20220918T170000
DTEND;TZID=Africa/Abidjan:20220918T190000
DTSTAMP:20260425T124544
CREATED:20220818T183127Z
LAST-MODIFIED:20220906T173937Z
UID:10000268-1663520400-1663527600@www.rilandtrusts.org
SUMMARY:Kayak Eco Tour on Great Salt Pond in Block Island
DESCRIPTION:***See registration instructions below!*** \nBlock Island Land Trust and Pond & Beyond Kayak are hosting an eco-tour around the great salt pond to highlight adjacent conservation lands. No first time kayakers or children please. This early evening kayak paddle will explore largely undeveloped shorelines of the Great Salt Pond. \n$20 per person \nRegister by calling or emailing Corrie at blockislandkayak@gmail.com and 401-578-2773. \nIn the event of rain\, this event will be held on Monday\, September 19th\, at the same time.
URL:https://www.rilandtrusts.org/landtrustdays/activity-new/kayak-eco-tour-on-great-salt-pond-in-block-island
LOCATION:216 Ocean Ave\, 216 Ocean Ave\, New Shoreham\, RI\, 02807\, us
ATTACH;FMTTYPE=image/jpeg:https://www.rilandtrusts.org/landtrustdays/wp-content/uploads/2022/08/1024x576-Cy2VY2.tmp_.jpg
GEO:41.180294;-71.573555
X-APPLE-STRUCTURED-LOCATION;VALUE=URI;X-ADDRESS=216 Ocean Ave 216 Ocean Ave New Shoreham RI 02807 us;X-APPLE-RADIUS=500;X-TITLE=216 Ocean Ave:geo:-71.573555,41.180294
END:VEVENT
END:VCALENDAR