BEGIN:VCALENDAR
VERSION:2.0
PRODID:-//RI Land Trust Days - ECPv6.15.20//NONSGML v1.0//EN
CALSCALE:GREGORIAN
METHOD:PUBLISH
X-ORIGINAL-URL:https://www.rilandtrusts.org/landtrustdays
X-WR-CALDESC:Events for RI Land Trust Days
REFRESH-INTERVAL;VALUE=DURATION:PT1H
X-Robots-Tag:noindex
X-PUBLISHED-TTL:PT1H
BEGIN:VTIMEZONE
TZID:Africa/Abidjan
BEGIN:STANDARD
TZOFFSETFROM:+0000
TZOFFSETTO:+0000
TZNAME:GMT
DTSTART:20210101T000000
END:STANDARD
END:VTIMEZONE
BEGIN:VEVENT
DTSTART;TZID=Africa/Abidjan:20221008T090000
DTEND;TZID=Africa/Abidjan:20221008T120000
DTSTAMP:20260425T223129
CREATED:20220818T183128Z
LAST-MODIFIED:20220915T211659Z
UID:10000270-1665219600-1665230400@www.rilandtrusts.org
SUMMARY:Self-Guided Odyssey at Burlingame
DESCRIPTION:***See registration instructions below!*** \nDiscover the hidden beaver\, Glacier Split Rock\, an abandoned road from the 1700s\, and more on a 2 mile\, self-guided walk over moderate terrain Cumberland Land Trust property. \nThis is a free event. Families are welcome but hike is best for older children due to terrain. Dogs are allowed if leashed. \nTo register\, email Mike Boday at mboday2@gmail.com. \nFacebook: @CumberlandLandTrust\nInstagram: @cumberlandlandtrust
URL:https://www.rilandtrusts.org/landtrustdays/activity-new/odyssey-at-burlingame-with-the-cumberland-land-trust
LOCATION:215 Nate Whipple Hwy\, 215 Nate Whipple Hwy\, Cumberland\, RI\, 02864\, us
ATTACH;FMTTYPE=image/jpeg:https://www.rilandtrusts.org/landtrustdays/wp-content/uploads/2022/08/1024x576-kCJYwI.tmp_.jpg
GEO:41.97783;-71.43688
X-APPLE-STRUCTURED-LOCATION;VALUE=URI;X-ADDRESS=215 Nate Whipple Hwy 215 Nate Whipple Hwy Cumberland RI 02864 us;X-APPLE-RADIUS=500;X-TITLE=215 Nate Whipple Hwy:geo:-71.43688,41.97783
END:VEVENT
END:VCALENDAR