BEGIN:VCALENDAR
VERSION:2.0
PRODID:-//RI Land Trust Days - ECPv6.15.20//NONSGML v1.0//EN
CALSCALE:GREGORIAN
METHOD:PUBLISH
X-ORIGINAL-URL:https://www.rilandtrusts.org/landtrustdays
X-WR-CALDESC:Events for RI Land Trust Days
REFRESH-INTERVAL;VALUE=DURATION:PT1H
X-Robots-Tag:noindex
X-PUBLISHED-TTL:PT1H
BEGIN:VTIMEZONE
TZID:Africa/Abidjan
BEGIN:STANDARD
TZOFFSETFROM:+0000
TZOFFSETTO:+0000
TZNAME:GMT
DTSTART:20210101T000000
END:STANDARD
END:VTIMEZONE
BEGIN:VEVENT
DTSTART;TZID=Africa/Abidjan:20220922T100000
DTEND;TZID=Africa/Abidjan:20220922T120000
DTSTAMP:20260425T155913
CREATED:20220829T133334Z
LAST-MODIFIED:20220901T202900Z
UID:10000466-1663840800-1663848000@www.rilandtrusts.org
SUMMARY:Autumnal Equinox Hike with Audubon Society of Rhode Island
DESCRIPTION:***See registration instructions below!*** \nCome on this leisurely hike and explore the changes of the season at Powder Mill Ledges Wildlife Refuge. Join an Audubon naturalist to search for wildlife and plants and learn their facts and folklore stories. Hike is easy/moderate with lots of stops for discussion. Wear sturdy\, closed-toe shoes and dress for the weather. \nCOST\n$10.00 per Member\n$14.00 per Non member \nLearn more and purchase tickets HERE. \nCONTACT E-MAIL\nmsolis@asri.org \nInstagram: @riaudubon\nFacebook: https://www.facebook.com/AudubonRI
URL:https://www.rilandtrusts.org/landtrustdays/activity-new/autumnal-equinox-hike-with-audubon-society-of-rhode-island
LOCATION:12 Sanderson Rd\, 12 Sanderson Rd\, Smithfield\, RI\, 02917\, us
ATTACH;FMTTYPE=image/jpeg:https://www.rilandtrusts.org/landtrustdays/wp-content/uploads/2022/08/1024x576-kCJYwI.tmp_.jpg
GEO:41.868725;-71.53034
X-APPLE-STRUCTURED-LOCATION;VALUE=URI;X-ADDRESS=12 Sanderson Rd 12 Sanderson Rd Smithfield RI 02917 us;X-APPLE-RADIUS=500;X-TITLE=12 Sanderson Rd:geo:-71.53034,41.868725
END:VEVENT
END:VCALENDAR