BEGIN:VCALENDAR
VERSION:2.0
PRODID:-//RI Land Trust Days - ECPv6.15.20//NONSGML v1.0//EN
CALSCALE:GREGORIAN
METHOD:PUBLISH
X-ORIGINAL-URL:https://www.rilandtrusts.org/landtrustdays
X-WR-CALDESC:Events for RI Land Trust Days
REFRESH-INTERVAL;VALUE=DURATION:PT1H
X-Robots-Tag:noindex
X-PUBLISHED-TTL:PT1H
BEGIN:VTIMEZONE
TZID:Africa/Abidjan
BEGIN:STANDARD
TZOFFSETFROM:+0000
TZOFFSETTO:+0000
TZNAME:GMT
DTSTART:20210101T000000
END:STANDARD
END:VTIMEZONE
BEGIN:VEVENT
DTSTART;TZID=Africa/Abidjan:20221026T180000
DTEND;TZID=Africa/Abidjan:20221026T193000
DTSTAMP:20260425T172136
CREATED:20221007T181454Z
LAST-MODIFIED:20221013T190055Z
UID:10000486-1666807200-1666812600@www.rilandtrusts.org
SUMMARY:Richmond’s Wild Neighbors: Fishers and Other Critters
DESCRIPTION:Join the Richmond Rural Preservation Land Trust for a fascinating presentation about Richmond’s Wild Neighbors on Wednesday\, October 26\, 2022 at 6 pm Richmond Community Center\, 1168 Main Street\, Wyoming\, RI\, 2nd Floor. \nLaken Ganoe\, a URI Gradute Student taking part in the RI Fisher Project\, will discuss her findings from a three-year project to learn more about one of the most misunderstood mammals in our community. Over the course of her project Laken used trail cameras and other methods to film and gather information on fishers. The cameras caught many other interesting wildlife as well. \nThis talk is free and open to the public. Refreshments will be served\, with any donations going to the Richmond Rural Preservation Land Trust. Contact Denise Poyer denisepoyer@gmail.com for more information.
URL:https://www.rilandtrusts.org/landtrustdays/activity-new/richmonds-wild-neighbors-fishers-and-other-critters
LOCATION:1168 Main St\, 1168 Main St\, Richmond\, RI\, 02898\, us
ATTACH;FMTTYPE=image/jpeg:https://www.rilandtrusts.org/landtrustdays/wp-content/uploads/2022/10/1024x576-BpFfDN.tmp_.jpg
GEO:41.514896;-71.69899
X-APPLE-STRUCTURED-LOCATION;VALUE=URI;X-ADDRESS=1168 Main St 1168 Main St Richmond RI 02898 us;X-APPLE-RADIUS=500;X-TITLE=1168 Main St:geo:-71.69899,41.514896
END:VEVENT
END:VCALENDAR