BEGIN:VCALENDAR
VERSION:2.0
PRODID:-//RI Land Trust Days - ECPv6.15.20//NONSGML v1.0//EN
CALSCALE:GREGORIAN
METHOD:PUBLISH
X-ORIGINAL-URL:https://www.rilandtrusts.org/landtrustdays
X-WR-CALDESC:Events for RI Land Trust Days
REFRESH-INTERVAL;VALUE=DURATION:PT1H
X-Robots-Tag:noindex
X-PUBLISHED-TTL:PT1H
BEGIN:VTIMEZONE
TZID:Africa/Abidjan
BEGIN:STANDARD
TZOFFSETFROM:+0000
TZOFFSETTO:+0000
TZNAME:GMT
DTSTART:20220101T000000
END:STANDARD
END:VTIMEZONE
BEGIN:VEVENT
DTSTART;TZID=Africa/Abidjan:20231001T100000
DTEND;TZID=Africa/Abidjan:20231001T113000
DTSTAMP:20260425T172316
CREATED:20230830T213254Z
LAST-MODIFIED:20230929T175412Z
UID:10000334-1696154400-1696159800@www.rilandtrusts.org
SUMMARY:Forest Health Walk & Talk with Hopkinton Land Trust
DESCRIPTION:Due to weather\, this event has been rescheduled from September 30th to October 1st. Registration required. Please register by emailing hopkintonlandtrust@gmail.com. \nCome join the Hopkinton Land Trust for a walk & talk about forest health at Crown Farm Preserve. We will discuss forest health matters such as invasive species\, beneficials and climate with trustee and entomologist Alana Russell. The walk will take about an hour and will follow the north-south trails loop. Come prepared with any questions or bring photos of any insects you would like to learn about. There will be an opportunity to view archaeological features on this property as well.
URL:https://www.rilandtrusts.org/landtrustdays/activity-new/forest-health-walk-talk-with-hopkinton-land-trust
LOCATION:101 Tomaquag Rd\, 101 Tomaquag Rd\, Ashaway\, RI\, 02804\, us
ATTACH;FMTTYPE=image/jpeg:https://www.rilandtrusts.org/landtrustdays/wp-content/uploads/2022/08/1024x576-kCJYwI.tmp_.jpg
GEO:41.427864;-71.75481
X-APPLE-STRUCTURED-LOCATION;VALUE=URI;X-ADDRESS=101 Tomaquag Rd 101 Tomaquag Rd Ashaway RI 02804 us;X-APPLE-RADIUS=500;X-TITLE=101 Tomaquag Rd:geo:-71.75481,41.427864
END:VEVENT
END:VCALENDAR