BEGIN:VCALENDAR
VERSION:2.0
PRODID:-//RI Land Trust Days - ECPv6.15.20//NONSGML v1.0//EN
CALSCALE:GREGORIAN
METHOD:PUBLISH
X-ORIGINAL-URL:https://www.rilandtrusts.org/landtrustdays
X-WR-CALDESC:Events for RI Land Trust Days
REFRESH-INTERVAL;VALUE=DURATION:PT1H
X-Robots-Tag:noindex
X-PUBLISHED-TTL:PT1H
BEGIN:VTIMEZONE
TZID:America/New_York
BEGIN:DAYLIGHT
TZOFFSETFROM:-0500
TZOFFSETTO:-0400
TZNAME:EDT
DTSTART:20210314T070000
END:DAYLIGHT
BEGIN:STANDARD
TZOFFSETFROM:-0400
TZOFFSETTO:-0500
TZNAME:EST
DTSTART:20211107T060000
END:STANDARD
BEGIN:DAYLIGHT
TZOFFSETFROM:-0500
TZOFFSETTO:-0400
TZNAME:EDT
DTSTART:20220313T070000
END:DAYLIGHT
BEGIN:STANDARD
TZOFFSETFROM:-0400
TZOFFSETTO:-0500
TZNAME:EST
DTSTART:20221106T060000
END:STANDARD
BEGIN:DAYLIGHT
TZOFFSETFROM:-0500
TZOFFSETTO:-0400
TZNAME:EDT
DTSTART:20230312T070000
END:DAYLIGHT
BEGIN:STANDARD
TZOFFSETFROM:-0400
TZOFFSETTO:-0500
TZNAME:EST
DTSTART:20231105T060000
END:STANDARD
END:VTIMEZONE
BEGIN:VEVENT
DTSTART;TZID=America/New_York:20221125T100000
DTEND;TZID=America/New_York:20221125T120000
DTSTAMP:20260425T191552
CREATED:20221028T192715Z
LAST-MODIFIED:20221101T161253Z
UID:10000283-1669370400-1669377600@www.rilandtrusts.org
SUMMARY:Walk Off the Turkey Hike
DESCRIPTION:To walk off all that stuffing\, please join the Cumberland Land Trust in your choice of either a 2.25 mile or 3.75 mile guided hike at the Blackall Family and Ballou Farm Preserve. The preserve exhibits numerous stonewalls\, stream crossings and a RIWalks Challenge Hay Scented Fern. \nThe longer hike will feature Cumberlandite\, only found in Cumberland and which is the official state rock of Rhode Island. There are a number of these magnetic rocks that were dropped by glaciers and jut out from the trail. \nThe shorter hike is considered to be easy with some short elevation changes whereas the longer hike is considered to be moderate because of the additional distance and larger elevation changes. \nFooting can be rocky at times so hikers are advised to wear comfortable hiking or athletic shoes. Hikers should bring water for hydration. In the event of rain\, the hikes will be cancelled. Family-friendly\, but please leave dogs at home. \nThe trailhead is located in the Dollar Tree Plaza\, 3751 Mendon Road\, Cumberland\, RI 02864 to the right of the Dollar Tree store. Plenty of parking is available\, however\, please leave the parking spaces directly in front of the stores to the customers. \nRegister on Meetup.
URL:https://www.rilandtrusts.org/landtrustdays/activity-new/walk-off-the-turkey-hike
ATTACH;FMTTYPE=image/png:https://www.rilandtrusts.org/landtrustdays/wp-content/uploads/2022/10/Screen-Shot-2022-10-28-at-3.22.01-PM.png
END:VEVENT
END:VCALENDAR